BEGIN:VCALENDAR
PRODID:-//ICExport//EN
VERSION:2.0
BEGIN:VEVENT
SUMMARY;LANGUAGE=en-us:Board Meeting
CLASS:PUBLIC
CREATED:20260423T133520
DESCRIPTION:<br> https://www.dpfp.org/Event/3946/Board-Meeting/event-details/
DTSTART:20260409T000000
DTEND:20261210T140000
SEQUENCE:0
UID:cb93fcad-cf4b-47e2-b601-0f8e114177d4
END:VEVENT
END:VCALENDAR
