BEGIN:VCALENDAR
PRODID:-//ICExport//EN
VERSION:2.0
BEGIN:VEVENT
SUMMARY;LANGUAGE=en-us:Board Meeting
CLASS:PUBLIC
CREATED:20260423T133423
DESCRIPTION:<br> https://www.dpfp.org/Event/3948/Board-Meeting/event-details/
DTSTART:20260611T000000
DTEND:20261210T140000
SEQUENCE:0
UID:4175fb2f-7f9a-4431-90d7-8854583ca24d
END:VEVENT
END:VCALENDAR
