BEGIN:VCALENDAR
PRODID:-//ICExport//EN
VERSION:2.0
BEGIN:VEVENT
SUMMARY;LANGUAGE=en-us:Board Meeting
CLASS:PUBLIC
CREATED:20260423T133448
DESCRIPTION:<br> https://www.dpfp.org/Event/3949/Board-Meeting/event-details/
DTSTART:20260709T000000
DTEND:20261210T140000
SEQUENCE:0
UID:d91da996-5f09-4546-9d7f-b890c399a1cf
END:VEVENT
END:VCALENDAR
