BEGIN:VCALENDAR
PRODID:-//ICExport//EN
VERSION:2.0
BEGIN:VEVENT
SUMMARY;LANGUAGE=en-us:Board Meeting
CLASS:PUBLIC
CREATED:20260423T133504
DESCRIPTION:<br> https://www.dpfp.org/Event/3953/Board-Meeting/event-details/
DTSTART:20261112T000000
DTEND:20261210T140000
SEQUENCE:0
UID:613ba457-d84c-4d7c-bfeb-cb12662790d5
END:VEVENT
END:VCALENDAR
