BEGIN:VCALENDAR
PRODID:-//ICExport//EN
VERSION:2.0
BEGIN:VEVENT
SUMMARY;LANGUAGE=en-us:Board Meeting
CLASS:PUBLIC
CREATED:20260423T133520
DESCRIPTION:<br> https://www.dpfp.org/Event/3954/Board-Meeting/event-details/
DTSTART:20261210T000000
DTEND:20261210T140000
SEQUENCE:0
UID:5576efaa-0698-4276-b41d-a725b3b725f1
END:VEVENT
END:VCALENDAR
